BEGIN:VCALENDAR
VERSION:2.0
PRODID:-//jEvents 2.0 for Joomla//EN
CALSCALE:GREGORIAN
METHOD:PUBLISH
BEGIN:VTIMEZONE
TZID:Europe/Bucharest
BEGIN:STANDARD
DTSTART:20111226T110000
RDATE:20120325T040000
TZOFFSETFROM:+0300
TZOFFSETTO:+0200
TZNAME:Europe/Bucharest EET
END:STANDARD
BEGIN:STANDARD
DTSTART:20121028T030000
RDATE:20130331T040000
TZOFFSETFROM:+0300
TZOFFSETTO:+0200
TZNAME:Europe/Bucharest EET
END:STANDARD
BEGIN:STANDARD
DTSTART:20131027T030000
RDATE:20140330T040000
TZOFFSETFROM:+0300
TZOFFSETTO:+0200
TZNAME:Europe/Bucharest EET
END:STANDARD
BEGIN:STANDARD
DTSTART:20141026T030000
RDATE:20150329T040000
TZOFFSETFROM:+0300
TZOFFSETTO:+0200
TZNAME:Europe/Bucharest EET
END:STANDARD
BEGIN:STANDARD
DTSTART:20151025T030000
RDATE:20160327T040000
TZOFFSETFROM:+0300
TZOFFSETTO:+0200
TZNAME:Europe/Bucharest EET
END:STANDARD
BEGIN:STANDARD
DTSTART:20161030T030000
RDATE:20170326T040000
TZOFFSETFROM:+0300
TZOFFSETTO:+0200
TZNAME:Europe/Bucharest EET
END:STANDARD
BEGIN:STANDARD
DTSTART:20171029T030000
RDATE:20180325T040000
TZOFFSETFROM:+0300
TZOFFSETTO:+0200
TZNAME:Europe/Bucharest EET
END:STANDARD
BEGIN:STANDARD
DTSTART:20181028T030000
RDATE:20190331T040000
TZOFFSETFROM:+0300
TZOFFSETTO:+0200
TZNAME:Europe/Bucharest EET
END:STANDARD
BEGIN:STANDARD
DTSTART:20191027T030000
RDATE:20200329T040000
TZOFFSETFROM:+0300
TZOFFSETTO:+0200
TZNAME:Europe/Bucharest EET
END:STANDARD
BEGIN:STANDARD
DTSTART:20201025T030000
RDATE:20210328T040000
TZOFFSETFROM:+0300
TZOFFSETTO:+0200
TZNAME:Europe/Bucharest EET
END:STANDARD
BEGIN:STANDARD
DTSTART:20211031T030000
RDATE:20220327T040000
TZOFFSETFROM:+0300
TZOFFSETTO:+0200
TZNAME:Europe/Bucharest EET
END:STANDARD
BEGIN:STANDARD
DTSTART:20221030T030000
RDATE:20230326T040000
TZOFFSETFROM:+0300
TZOFFSETTO:+0200
TZNAME:Europe/Bucharest EET
END:STANDARD
BEGIN:STANDARD
DTSTART:20231029T030000
RDATE:20240331T040000
TZOFFSETFROM:+0300
TZOFFSETTO:+0200
TZNAME:Europe/Bucharest EET
END:STANDARD
BEGIN:STANDARD
DTSTART:20241027T030000
RDATE:20250330T040000
TZOFFSETFROM:+0300
TZOFFSETTO:+0200
TZNAME:Europe/Bucharest EET
END:STANDARD
BEGIN:STANDARD
DTSTART:20251026T030000
RDATE:20260329T040000
TZOFFSETFROM:+0300
TZOFFSETTO:+0200
TZNAME:Europe/Bucharest EET
END:STANDARD
BEGIN:STANDARD
DTSTART:20261025T030000
RDATE:20270328T040000
TZOFFSETFROM:+0300
TZOFFSETTO:+0200
TZNAME:Europe/Bucharest EET
END:STANDARD
BEGIN:STANDARD
DTSTART:20271031T030000
RDATE:20280326T040000
TZOFFSETFROM:+0300
TZOFFSETTO:+0200
TZNAME:Europe/Bucharest EET
END:STANDARD
BEGIN:STANDARD
DTSTART:20281029T030000
RDATE:20290325T040000
TZOFFSETFROM:+0300
TZOFFSETTO:+0200
TZNAME:Europe/Bucharest EET
END:STANDARD
BEGIN:STANDARD
DTSTART:20291028T030000
RDATE:20300331T040000
TZOFFSETFROM:+0300
TZOFFSETTO:+0200
TZNAME:Europe/Bucharest EET
END:STANDARD
BEGIN:STANDARD
DTSTART:20301027T030000
RDATE:20310330T040000
TZOFFSETFROM:+0300
TZOFFSETTO:+0200
TZNAME:Europe/Bucharest EET
END:STANDARD
BEGIN:STANDARD
DTSTART:20311026T030000
RDATE:20320328T040000
TZOFFSETFROM:+0300
TZOFFSETTO:+0200
TZNAME:Europe/Bucharest EET
END:STANDARD
BEGIN:DAYLIGHT
DTSTART:20120325T040000
RDATE:20121028T030000
TZOFFSETFROM:+0200
TZOFFSETTO:+0300
TZNAME:Europe/Bucharest EEST
END:DAYLIGHT
BEGIN:DAYLIGHT
DTSTART:20130331T040000
RDATE:20131027T030000
TZOFFSETFROM:+0200
TZOFFSETTO:+0300
TZNAME:Europe/Bucharest EEST
END:DAYLIGHT
BEGIN:DAYLIGHT
DTSTART:20140330T040000
RDATE:20141026T030000
TZOFFSETFROM:+0200
TZOFFSETTO:+0300
TZNAME:Europe/Bucharest EEST
END:DAYLIGHT
BEGIN:DAYLIGHT
DTSTART:20150329T040000
RDATE:20151025T030000
TZOFFSETFROM:+0200
TZOFFSETTO:+0300
TZNAME:Europe/Bucharest EEST
END:DAYLIGHT
BEGIN:DAYLIGHT
DTSTART:20160327T040000
RDATE:20161030T030000
TZOFFSETFROM:+0200
TZOFFSETTO:+0300
TZNAME:Europe/Bucharest EEST
END:DAYLIGHT
BEGIN:DAYLIGHT
DTSTART:20170326T040000
RDATE:20171029T030000
TZOFFSETFROM:+0200
TZOFFSETTO:+0300
TZNAME:Europe/Bucharest EEST
END:DAYLIGHT
BEGIN:DAYLIGHT
DTSTART:20180325T040000
RDATE:20181028T030000
TZOFFSETFROM:+0200
TZOFFSETTO:+0300
TZNAME:Europe/Bucharest EEST
END:DAYLIGHT
BEGIN:DAYLIGHT
DTSTART:20190331T040000
RDATE:20191027T030000
TZOFFSETFROM:+0200
TZOFFSETTO:+0300
TZNAME:Europe/Bucharest EEST
END:DAYLIGHT
BEGIN:DAYLIGHT
DTSTART:20200329T040000
RDATE:20201025T030000
TZOFFSETFROM:+0200
TZOFFSETTO:+0300
TZNAME:Europe/Bucharest EEST
END:DAYLIGHT
BEGIN:DAYLIGHT
DTSTART:20210328T040000
RDATE:20211031T030000
TZOFFSETFROM:+0200
TZOFFSETTO:+0300
TZNAME:Europe/Bucharest EEST
END:DAYLIGHT
BEGIN:DAYLIGHT
DTSTART:20220327T040000
RDATE:20221030T030000
TZOFFSETFROM:+0200
TZOFFSETTO:+0300
TZNAME:Europe/Bucharest EEST
END:DAYLIGHT
BEGIN:DAYLIGHT
DTSTART:20230326T040000
RDATE:20231029T030000
TZOFFSETFROM:+0200
TZOFFSETTO:+0300
TZNAME:Europe/Bucharest EEST
END:DAYLIGHT
BEGIN:DAYLIGHT
DTSTART:20240331T040000
RDATE:20241027T030000
TZOFFSETFROM:+0200
TZOFFSETTO:+0300
TZNAME:Europe/Bucharest EEST
END:DAYLIGHT
BEGIN:DAYLIGHT
DTSTART:20250330T040000
RDATE:20251026T030000
TZOFFSETFROM:+0200
TZOFFSETTO:+0300
TZNAME:Europe/Bucharest EEST
END:DAYLIGHT
BEGIN:DAYLIGHT
DTSTART:20260329T040000
RDATE:20261025T030000
TZOFFSETFROM:+0200
TZOFFSETTO:+0300
TZNAME:Europe/Bucharest EEST
END:DAYLIGHT
BEGIN:DAYLIGHT
DTSTART:20270328T040000
RDATE:20271031T030000
TZOFFSETFROM:+0200
TZOFFSETTO:+0300
TZNAME:Europe/Bucharest EEST
END:DAYLIGHT
BEGIN:DAYLIGHT
DTSTART:20280326T040000
RDATE:20281029T030000
TZOFFSETFROM:+0200
TZOFFSETTO:+0300
TZNAME:Europe/Bucharest EEST
END:DAYLIGHT
BEGIN:DAYLIGHT
DTSTART:20290325T040000
RDATE:20291028T030000
TZOFFSETFROM:+0200
TZOFFSETTO:+0300
TZNAME:Europe/Bucharest EEST
END:DAYLIGHT
BEGIN:DAYLIGHT
DTSTART:20300331T040000
RDATE:20301027T030000
TZOFFSETFROM:+0200
TZOFFSETTO:+0300
TZNAME:Europe/Bucharest EEST
END:DAYLIGHT
BEGIN:DAYLIGHT
DTSTART:20310330T040000
RDATE:20311026T030000
TZOFFSETFROM:+0200
TZOFFSETTO:+0300
TZNAME:Europe/Bucharest EEST
END:DAYLIGHT
END:VTIMEZONE
BEGIN:VEVENT
UID:4d72598aff0f823998f5efa7907c218a
CATEGORIES:Scolare
CREATED:20180116T005528
SUMMARY:Concert "Colinde de Craciun". Biserica Balaceanca.
LOCATION:Biserica Balaceanca

URL;VALUE=URI:https://mail.voxcernica.ro/calendar-evenimente-cernica/calendar-evenimente-
 locale-cernica/102/concert-colinde-de-craciun-biserica-balaceanca.html?tmpl
 =component
DESCRIPTION:<p><span style="color: #808080;">Concert "Colinde de Craciun", de catre cor
 ul de copii din cadrul scolii generale din Balaceanca si corul de copii Sfa
 ntul Nicolae si Antim Ivireanul de la Manastirea Antim. </span></p>
<p><spa
 n style="color: #808080;"><a href="stiri/427-concert-colinde-de-craciun-bis
 erica-balaceanca.html">https://voxcernica.ro/stiri/427-concert-colinde-de-c
 raciun-biserica-balaceanca.html</a></span></p>
 <a href="https://mail.voxce
 rnica.ro/calendar-evenimente-cernica/calendar-evenimente-locale-cernica/102
 /concert-colinde-de-craciun-biserica-balaceanca.html?tmpl=component">This e
 vent was imported from: https://mail.voxcernica.ro/calendar-evenimente-cern
 ica/calendar-evenimente-locale-cernica/102/concert-colinde-de-craciun-biser
 ica-balaceanca.html?tmpl=component</a>
X-ALT-DESC;FMTTYPE=text/html:<p><span style="color: #808080;">Concert "Colinde de Craciun", de catre cor
 ul de copii din cadrul scolii generale din Balaceanca si corul de copii Sfa
 ntul Nicolae si Antim Ivireanul de la Manastirea Antim. </span></p>
<p><spa
 n style="color: #808080;"><a href="https://mail.voxcernica.ro/stiri/427-con
 cert-colinde-de-craciun-biserica-balaceanca.html">https://voxcernica.ro/sti
 ri/427-concert-colinde-de-craciun-biserica-balaceanca.html</a></span></p>
 
 <a href="https://mail.voxcernica.ro/calendar-evenimente-cernica/calendar-ev
 enimente-locale-cernica/102/concert-colinde-de-craciun-biserica-balaceanca.
 html?tmpl=component">This event was imported from: https://mail.voxcernica.
 ro/calendar-evenimente-cernica/calendar-evenimente-locale-cernica/102/conce
 rt-colinde-de-craciun-biserica-balaceanca.html?tmpl=component</a>CONTACT:Această adresă de email este protejată contra spambots. Trebuie să activați JavaScript pentru a o vedea.
				document.getElementById('cloakbbb088d0ea90befa8c0afe0ae5cf69f8').innerHTML = '';
				var prefix = '&#109;a' + 'i&#108;' + '&#116;o';
				var path = 'hr' + 'ef' + '=';
				var addybbb088d0ea90befa8c0afe0ae5cf69f8 = 'c&#111;nt&#97;ct' + '&#64;';
				addybbb088d0ea90befa8c0afe0ae5cf69f8 = addybbb088d0ea90befa8c0afe0ae5cf69f8 + 'v&#111;xc&#101;rn&#105;c&#97;' + '&#46;' + 'r&#111;';
				var addy_textbbb088d0ea90befa8c0afe0ae5cf69f8 = 'c&#111;nt&#97;ct' + '&#64;' + 'v&#111;xc&#101;rn&#105;c&#97;' + '&#46;' + 'r&#111;';document.getElementById('cloakbbb088d0ea90befa8c0afe0ae5cf69f8').innerHTML += '<a ' + path + '\'' + prefix + ':' + addybbb088d0ea90befa8c0afe0ae5cf69f8 + '\'>'+addy_textbbb088d0ea90befa8c0afe0ae5cf69f8+'';
		

X-EXTRAINFO:Concert "Colinde de Craciun",

DTSTAMP:20260420T084108
DTSTART;TZID=Europe/Bucharest:20121226T110000
DTEND;TZID=Europe/Bucharest:20121226T120000
SEQUENCE:0
TRANSP:OPAQUE
END:VEVENT
END:VCALENDAR