BEGIN:VCALENDAR
VERSION:2.0
PRODID:-//jEvents 2.0 for Joomla//EN
CALSCALE:GREGORIAN
METHOD:PUBLISH
BEGIN:VTIMEZONE
TZID:Europe/Bucharest
BEGIN:STANDARD
DTSTART:20091028T140000
RDATE:20100328T040000
TZOFFSETFROM:+0300
TZOFFSETTO:+0200
TZNAME:Europe/Bucharest EET
END:STANDARD
BEGIN:STANDARD
DTSTART:20101031T030000
RDATE:20110327T040000
TZOFFSETFROM:+0300
TZOFFSETTO:+0200
TZNAME:Europe/Bucharest EET
END:STANDARD
BEGIN:STANDARD
DTSTART:20111030T030000
RDATE:20120325T040000
TZOFFSETFROM:+0300
TZOFFSETTO:+0200
TZNAME:Europe/Bucharest EET
END:STANDARD
BEGIN:STANDARD
DTSTART:20121028T030000
RDATE:20130331T040000
TZOFFSETFROM:+0300
TZOFFSETTO:+0200
TZNAME:Europe/Bucharest EET
END:STANDARD
BEGIN:STANDARD
DTSTART:20131027T030000
RDATE:20140330T040000
TZOFFSETFROM:+0300
TZOFFSETTO:+0200
TZNAME:Europe/Bucharest EET
END:STANDARD
BEGIN:STANDARD
DTSTART:20141026T030000
RDATE:20150329T040000
TZOFFSETFROM:+0300
TZOFFSETTO:+0200
TZNAME:Europe/Bucharest EET
END:STANDARD
BEGIN:STANDARD
DTSTART:20151025T030000
RDATE:20160327T040000
TZOFFSETFROM:+0300
TZOFFSETTO:+0200
TZNAME:Europe/Bucharest EET
END:STANDARD
BEGIN:STANDARD
DTSTART:20161030T030000
RDATE:20170326T040000
TZOFFSETFROM:+0300
TZOFFSETTO:+0200
TZNAME:Europe/Bucharest EET
END:STANDARD
BEGIN:STANDARD
DTSTART:20171029T030000
RDATE:20180325T040000
TZOFFSETFROM:+0300
TZOFFSETTO:+0200
TZNAME:Europe/Bucharest EET
END:STANDARD
BEGIN:STANDARD
DTSTART:20181028T030000
RDATE:20190331T040000
TZOFFSETFROM:+0300
TZOFFSETTO:+0200
TZNAME:Europe/Bucharest EET
END:STANDARD
BEGIN:STANDARD
DTSTART:20191027T030000
RDATE:20200329T040000
TZOFFSETFROM:+0300
TZOFFSETTO:+0200
TZNAME:Europe/Bucharest EET
END:STANDARD
BEGIN:STANDARD
DTSTART:20201025T030000
RDATE:20210328T040000
TZOFFSETFROM:+0300
TZOFFSETTO:+0200
TZNAME:Europe/Bucharest EET
END:STANDARD
BEGIN:STANDARD
DTSTART:20211031T030000
RDATE:20220327T040000
TZOFFSETFROM:+0300
TZOFFSETTO:+0200
TZNAME:Europe/Bucharest EET
END:STANDARD
BEGIN:STANDARD
DTSTART:20221030T030000
RDATE:20230326T040000
TZOFFSETFROM:+0300
TZOFFSETTO:+0200
TZNAME:Europe/Bucharest EET
END:STANDARD
BEGIN:STANDARD
DTSTART:20231029T030000
RDATE:20240331T040000
TZOFFSETFROM:+0300
TZOFFSETTO:+0200
TZNAME:Europe/Bucharest EET
END:STANDARD
BEGIN:STANDARD
DTSTART:20241027T030000
RDATE:20250330T040000
TZOFFSETFROM:+0300
TZOFFSETTO:+0200
TZNAME:Europe/Bucharest EET
END:STANDARD
BEGIN:STANDARD
DTSTART:20251026T030000
RDATE:20260329T040000
TZOFFSETFROM:+0300
TZOFFSETTO:+0200
TZNAME:Europe/Bucharest EET
END:STANDARD
BEGIN:STANDARD
DTSTART:20261025T030000
RDATE:20270328T040000
TZOFFSETFROM:+0300
TZOFFSETTO:+0200
TZNAME:Europe/Bucharest EET
END:STANDARD
BEGIN:STANDARD
DTSTART:20271031T030000
RDATE:20280326T040000
TZOFFSETFROM:+0300
TZOFFSETTO:+0200
TZNAME:Europe/Bucharest EET
END:STANDARD
BEGIN:STANDARD
DTSTART:20281029T030000
RDATE:20290325T040000
TZOFFSETFROM:+0300
TZOFFSETTO:+0200
TZNAME:Europe/Bucharest EET
END:STANDARD
BEGIN:STANDARD
DTSTART:20291028T030000
RDATE:20300331T040000
TZOFFSETFROM:+0300
TZOFFSETTO:+0200
TZNAME:Europe/Bucharest EET
END:STANDARD
BEGIN:STANDARD
DTSTART:20301027T030000
RDATE:20310330T040000
TZOFFSETFROM:+0300
TZOFFSETTO:+0200
TZNAME:Europe/Bucharest EET
END:STANDARD
BEGIN:STANDARD
DTSTART:20311026T030000
RDATE:20320328T040000
TZOFFSETFROM:+0300
TZOFFSETTO:+0200
TZNAME:Europe/Bucharest EET
END:STANDARD
BEGIN:DAYLIGHT
DTSTART:20100328T040000
RDATE:20101031T030000
TZOFFSETFROM:+0200
TZOFFSETTO:+0300
TZNAME:Europe/Bucharest EEST
END:DAYLIGHT
BEGIN:DAYLIGHT
DTSTART:20110327T040000
RDATE:20111030T030000
TZOFFSETFROM:+0200
TZOFFSETTO:+0300
TZNAME:Europe/Bucharest EEST
END:DAYLIGHT
BEGIN:DAYLIGHT
DTSTART:20120325T040000
RDATE:20121028T030000
TZOFFSETFROM:+0200
TZOFFSETTO:+0300
TZNAME:Europe/Bucharest EEST
END:DAYLIGHT
BEGIN:DAYLIGHT
DTSTART:20130331T040000
RDATE:20131027T030000
TZOFFSETFROM:+0200
TZOFFSETTO:+0300
TZNAME:Europe/Bucharest EEST
END:DAYLIGHT
BEGIN:DAYLIGHT
DTSTART:20140330T040000
RDATE:20141026T030000
TZOFFSETFROM:+0200
TZOFFSETTO:+0300
TZNAME:Europe/Bucharest EEST
END:DAYLIGHT
BEGIN:DAYLIGHT
DTSTART:20150329T040000
RDATE:20151025T030000
TZOFFSETFROM:+0200
TZOFFSETTO:+0300
TZNAME:Europe/Bucharest EEST
END:DAYLIGHT
BEGIN:DAYLIGHT
DTSTART:20160327T040000
RDATE:20161030T030000
TZOFFSETFROM:+0200
TZOFFSETTO:+0300
TZNAME:Europe/Bucharest EEST
END:DAYLIGHT
BEGIN:DAYLIGHT
DTSTART:20170326T040000
RDATE:20171029T030000
TZOFFSETFROM:+0200
TZOFFSETTO:+0300
TZNAME:Europe/Bucharest EEST
END:DAYLIGHT
BEGIN:DAYLIGHT
DTSTART:20180325T040000
RDATE:20181028T030000
TZOFFSETFROM:+0200
TZOFFSETTO:+0300
TZNAME:Europe/Bucharest EEST
END:DAYLIGHT
BEGIN:DAYLIGHT
DTSTART:20190331T040000
RDATE:20191027T030000
TZOFFSETFROM:+0200
TZOFFSETTO:+0300
TZNAME:Europe/Bucharest EEST
END:DAYLIGHT
BEGIN:DAYLIGHT
DTSTART:20200329T040000
RDATE:20201025T030000
TZOFFSETFROM:+0200
TZOFFSETTO:+0300
TZNAME:Europe/Bucharest EEST
END:DAYLIGHT
BEGIN:DAYLIGHT
DTSTART:20210328T040000
RDATE:20211031T030000
TZOFFSETFROM:+0200
TZOFFSETTO:+0300
TZNAME:Europe/Bucharest EEST
END:DAYLIGHT
BEGIN:DAYLIGHT
DTSTART:20220327T040000
RDATE:20221030T030000
TZOFFSETFROM:+0200
TZOFFSETTO:+0300
TZNAME:Europe/Bucharest EEST
END:DAYLIGHT
BEGIN:DAYLIGHT
DTSTART:20230326T040000
RDATE:20231029T030000
TZOFFSETFROM:+0200
TZOFFSETTO:+0300
TZNAME:Europe/Bucharest EEST
END:DAYLIGHT
BEGIN:DAYLIGHT
DTSTART:20240331T040000
RDATE:20241027T030000
TZOFFSETFROM:+0200
TZOFFSETTO:+0300
TZNAME:Europe/Bucharest EEST
END:DAYLIGHT
BEGIN:DAYLIGHT
DTSTART:20250330T040000
RDATE:20251026T030000
TZOFFSETFROM:+0200
TZOFFSETTO:+0300
TZNAME:Europe/Bucharest EEST
END:DAYLIGHT
BEGIN:DAYLIGHT
DTSTART:20260329T040000
RDATE:20261025T030000
TZOFFSETFROM:+0200
TZOFFSETTO:+0300
TZNAME:Europe/Bucharest EEST
END:DAYLIGHT
BEGIN:DAYLIGHT
DTSTART:20270328T040000
RDATE:20271031T030000
TZOFFSETFROM:+0200
TZOFFSETTO:+0300
TZNAME:Europe/Bucharest EEST
END:DAYLIGHT
BEGIN:DAYLIGHT
DTSTART:20280326T040000
RDATE:20281029T030000
TZOFFSETFROM:+0200
TZOFFSETTO:+0300
TZNAME:Europe/Bucharest EEST
END:DAYLIGHT
BEGIN:DAYLIGHT
DTSTART:20290325T040000
RDATE:20291028T030000
TZOFFSETFROM:+0200
TZOFFSETTO:+0300
TZNAME:Europe/Bucharest EEST
END:DAYLIGHT
BEGIN:DAYLIGHT
DTSTART:20300331T040000
RDATE:20301027T030000
TZOFFSETFROM:+0200
TZOFFSETTO:+0300
TZNAME:Europe/Bucharest EEST
END:DAYLIGHT
BEGIN:DAYLIGHT
DTSTART:20310330T040000
RDATE:20311026T030000
TZOFFSETFROM:+0200
TZOFFSETTO:+0300
TZNAME:Europe/Bucharest EEST
END:DAYLIGHT
END:VTIMEZONE
BEGIN:VEVENT
UID:4c2405e1164d4c3384234a1a58ec0e24
CATEGORIES:Sport
CREATED:20180116T005528
SUMMARY:Transmisiune in direct meci fotbal
LOCATION:Stadion fotbal Caldararu

URL;VALUE=URI:https://mail.voxcernica.ro/calendar-evenimente-cernica/calendar-evenimente-
 locale-cernica/87/transmisiune-in-direct-meci-fotbal.html?tmpl=component
DESCRIPTION:<p><span style="font-family: arial, helvetica, sans-serif;">Transmisiune in
  direct meci fotbal. ROMPRIM BUCURESTI - PROGRESUL CERNICA. Stadion fotbal 
 Caldararu. Comentator Vasile Boboja. In cazul in care ploua meciu nu va mai
  fi transmis. Detalii si aici: <span style="color: #ff0000;"><a href="tv-li
 ve-foto-video-program-voxcernica-tv-live/program-post-televiziune-voxcernic
 a-tv-live-in-direct.html#year 10&month&day$&view=month">Program VoxCernica
  TV Live</a></span></span></p>
 <a href="https://mail.voxcernica.ro/calenda
 r-evenimente-cernica/calendar-evenimente-locale-cernica/87/transmisiune-in-
 direct-meci-fotbal.html?tmpl=component">This event was imported from: https
 ://mail.voxcernica.ro/calendar-evenimente-cernica/calendar-evenimente-local
 e-cernica/87/transmisiune-in-direct-meci-fotbal.html?tmpl=component</a>
X-ALT-DESC;FMTTYPE=text/html:<p><span style="font-family: arial, helvetica, sans-serif;">Transmisiune in
  direct meci fotbal. ROMPRIM BUCURESTI - PROGRESUL CERNICA. Stadion fotbal 
 Caldararu. Comentator Vasile Boboja. In cazul in care ploua meciu nu va mai
  fi transmis. Detalii si aici: <span style="color: #ff0000;"><a href="https
 ://mail.voxcernica.ro/tv-live-foto-video-program-voxcernica-tv-live/program
 -post-televiziune-voxcernica-tv-live-in-direct.html#year 10&month&day$&vie
 w=month">Program VoxCernica TV Live</a></span></span></p>
 <a href="https:/
 /mail.voxcernica.ro/calendar-evenimente-cernica/calendar-evenimente-locale-
 cernica/87/transmisiune-in-direct-meci-fotbal.html?tmpl=component">This eve
 nt was imported from: https://mail.voxcernica.ro/calendar-evenimente-cernic
 a/calendar-evenimente-locale-cernica/87/transmisiune-in-direct-meci-fotbal.
 html?tmpl=component</a>CONTACT:Această adresă de email este protejată contra spambots. Trebuie să activați JavaScript pentru a o vedea.
				document.getElementById('cloakbb366648c30172540026f3b6adc5ce1a').innerHTML = '';
				var prefix = '&#109;a' + 'i&#108;' + '&#116;o';
				var path = 'hr' + 'ef' + '=';
				var addybb366648c30172540026f3b6adc5ce1a = 'c&#111;nt&#97;ct' + '&#64;';
				addybb366648c30172540026f3b6adc5ce1a = addybb366648c30172540026f3b6adc5ce1a + 'v&#111;xc&#101;rn&#105;c&#97;' + '&#46;' + 'r&#111;';
				var addy_textbb366648c30172540026f3b6adc5ce1a = 'c&#111;nt&#97;ct' + '&#64;' + 'v&#111;xc&#101;rn&#105;c&#97;' + '&#46;' + 'r&#111;';document.getElementById('cloakbb366648c30172540026f3b6adc5ce1a').innerHTML += '<a ' + path + '\'' + prefix + ':' + addybb366648c30172540026f3b6adc5ce1a + '\'>'+addy_textbb366648c30172540026f3b6adc5ce1a+'';
		

X-EXTRAINFO:Transmisiune 

DTSTAMP:20260420T084024
DTSTART;TZID=Europe/Bucharest:20101029T150000
DTEND;TZID=Europe/Bucharest:20101029T164500
SEQUENCE:0
TRANSP:OPAQUE
END:VEVENT
END:VCALENDAR