BEGIN:VCALENDAR
VERSION:2.0
PRODID:-//jEvents 2.0 for Joomla//EN
CALSCALE:GREGORIAN
METHOD:PUBLISH
BEGIN:VTIMEZONE
TZID:Europe/Bucharest
BEGIN:STANDARD
DTSTART:20101219T093000
RDATE:20110327T040000
TZOFFSETFROM:+0300
TZOFFSETTO:+0200
TZNAME:Europe/Bucharest EET
END:STANDARD
BEGIN:STANDARD
DTSTART:20111030T030000
RDATE:20120325T040000
TZOFFSETFROM:+0300
TZOFFSETTO:+0200
TZNAME:Europe/Bucharest EET
END:STANDARD
BEGIN:STANDARD
DTSTART:20121028T030000
RDATE:20130331T040000
TZOFFSETFROM:+0300
TZOFFSETTO:+0200
TZNAME:Europe/Bucharest EET
END:STANDARD
BEGIN:STANDARD
DTSTART:20131027T030000
RDATE:20140330T040000
TZOFFSETFROM:+0300
TZOFFSETTO:+0200
TZNAME:Europe/Bucharest EET
END:STANDARD
BEGIN:STANDARD
DTSTART:20141026T030000
RDATE:20150329T040000
TZOFFSETFROM:+0300
TZOFFSETTO:+0200
TZNAME:Europe/Bucharest EET
END:STANDARD
BEGIN:STANDARD
DTSTART:20151025T030000
RDATE:20160327T040000
TZOFFSETFROM:+0300
TZOFFSETTO:+0200
TZNAME:Europe/Bucharest EET
END:STANDARD
BEGIN:STANDARD
DTSTART:20161030T030000
RDATE:20170326T040000
TZOFFSETFROM:+0300
TZOFFSETTO:+0200
TZNAME:Europe/Bucharest EET
END:STANDARD
BEGIN:STANDARD
DTSTART:20171029T030000
RDATE:20180325T040000
TZOFFSETFROM:+0300
TZOFFSETTO:+0200
TZNAME:Europe/Bucharest EET
END:STANDARD
BEGIN:STANDARD
DTSTART:20181028T030000
RDATE:20190331T040000
TZOFFSETFROM:+0300
TZOFFSETTO:+0200
TZNAME:Europe/Bucharest EET
END:STANDARD
BEGIN:STANDARD
DTSTART:20191027T030000
RDATE:20200329T040000
TZOFFSETFROM:+0300
TZOFFSETTO:+0200
TZNAME:Europe/Bucharest EET
END:STANDARD
BEGIN:STANDARD
DTSTART:20201025T030000
RDATE:20210328T040000
TZOFFSETFROM:+0300
TZOFFSETTO:+0200
TZNAME:Europe/Bucharest EET
END:STANDARD
BEGIN:STANDARD
DTSTART:20211031T030000
RDATE:20220327T040000
TZOFFSETFROM:+0300
TZOFFSETTO:+0200
TZNAME:Europe/Bucharest EET
END:STANDARD
BEGIN:STANDARD
DTSTART:20221030T030000
RDATE:20230326T040000
TZOFFSETFROM:+0300
TZOFFSETTO:+0200
TZNAME:Europe/Bucharest EET
END:STANDARD
BEGIN:STANDARD
DTSTART:20231029T030000
RDATE:20240331T040000
TZOFFSETFROM:+0300
TZOFFSETTO:+0200
TZNAME:Europe/Bucharest EET
END:STANDARD
BEGIN:STANDARD
DTSTART:20241027T030000
RDATE:20250330T040000
TZOFFSETFROM:+0300
TZOFFSETTO:+0200
TZNAME:Europe/Bucharest EET
END:STANDARD
BEGIN:STANDARD
DTSTART:20251026T030000
RDATE:20260329T040000
TZOFFSETFROM:+0300
TZOFFSETTO:+0200
TZNAME:Europe/Bucharest EET
END:STANDARD
BEGIN:STANDARD
DTSTART:20261025T030000
RDATE:20270328T040000
TZOFFSETFROM:+0300
TZOFFSETTO:+0200
TZNAME:Europe/Bucharest EET
END:STANDARD
BEGIN:STANDARD
DTSTART:20271031T030000
RDATE:20280326T040000
TZOFFSETFROM:+0300
TZOFFSETTO:+0200
TZNAME:Europe/Bucharest EET
END:STANDARD
BEGIN:STANDARD
DTSTART:20281029T030000
RDATE:20290325T040000
TZOFFSETFROM:+0300
TZOFFSETTO:+0200
TZNAME:Europe/Bucharest EET
END:STANDARD
BEGIN:STANDARD
DTSTART:20291028T030000
RDATE:20300331T040000
TZOFFSETFROM:+0300
TZOFFSETTO:+0200
TZNAME:Europe/Bucharest EET
END:STANDARD
BEGIN:STANDARD
DTSTART:20301027T030000
RDATE:20310330T040000
TZOFFSETFROM:+0300
TZOFFSETTO:+0200
TZNAME:Europe/Bucharest EET
END:STANDARD
BEGIN:STANDARD
DTSTART:20311026T030000
RDATE:20320328T040000
TZOFFSETFROM:+0300
TZOFFSETTO:+0200
TZNAME:Europe/Bucharest EET
END:STANDARD
BEGIN:DAYLIGHT
DTSTART:20110327T040000
RDATE:20111030T030000
TZOFFSETFROM:+0200
TZOFFSETTO:+0300
TZNAME:Europe/Bucharest EEST
END:DAYLIGHT
BEGIN:DAYLIGHT
DTSTART:20120325T040000
RDATE:20121028T030000
TZOFFSETFROM:+0200
TZOFFSETTO:+0300
TZNAME:Europe/Bucharest EEST
END:DAYLIGHT
BEGIN:DAYLIGHT
DTSTART:20130331T040000
RDATE:20131027T030000
TZOFFSETFROM:+0200
TZOFFSETTO:+0300
TZNAME:Europe/Bucharest EEST
END:DAYLIGHT
BEGIN:DAYLIGHT
DTSTART:20140330T040000
RDATE:20141026T030000
TZOFFSETFROM:+0200
TZOFFSETTO:+0300
TZNAME:Europe/Bucharest EEST
END:DAYLIGHT
BEGIN:DAYLIGHT
DTSTART:20150329T040000
RDATE:20151025T030000
TZOFFSETFROM:+0200
TZOFFSETTO:+0300
TZNAME:Europe/Bucharest EEST
END:DAYLIGHT
BEGIN:DAYLIGHT
DTSTART:20160327T040000
RDATE:20161030T030000
TZOFFSETFROM:+0200
TZOFFSETTO:+0300
TZNAME:Europe/Bucharest EEST
END:DAYLIGHT
BEGIN:DAYLIGHT
DTSTART:20170326T040000
RDATE:20171029T030000
TZOFFSETFROM:+0200
TZOFFSETTO:+0300
TZNAME:Europe/Bucharest EEST
END:DAYLIGHT
BEGIN:DAYLIGHT
DTSTART:20180325T040000
RDATE:20181028T030000
TZOFFSETFROM:+0200
TZOFFSETTO:+0300
TZNAME:Europe/Bucharest EEST
END:DAYLIGHT
BEGIN:DAYLIGHT
DTSTART:20190331T040000
RDATE:20191027T030000
TZOFFSETFROM:+0200
TZOFFSETTO:+0300
TZNAME:Europe/Bucharest EEST
END:DAYLIGHT
BEGIN:DAYLIGHT
DTSTART:20200329T040000
RDATE:20201025T030000
TZOFFSETFROM:+0200
TZOFFSETTO:+0300
TZNAME:Europe/Bucharest EEST
END:DAYLIGHT
BEGIN:DAYLIGHT
DTSTART:20210328T040000
RDATE:20211031T030000
TZOFFSETFROM:+0200
TZOFFSETTO:+0300
TZNAME:Europe/Bucharest EEST
END:DAYLIGHT
BEGIN:DAYLIGHT
DTSTART:20220327T040000
RDATE:20221030T030000
TZOFFSETFROM:+0200
TZOFFSETTO:+0300
TZNAME:Europe/Bucharest EEST
END:DAYLIGHT
BEGIN:DAYLIGHT
DTSTART:20230326T040000
RDATE:20231029T030000
TZOFFSETFROM:+0200
TZOFFSETTO:+0300
TZNAME:Europe/Bucharest EEST
END:DAYLIGHT
BEGIN:DAYLIGHT
DTSTART:20240331T040000
RDATE:20241027T030000
TZOFFSETFROM:+0200
TZOFFSETTO:+0300
TZNAME:Europe/Bucharest EEST
END:DAYLIGHT
BEGIN:DAYLIGHT
DTSTART:20250330T040000
RDATE:20251026T030000
TZOFFSETFROM:+0200
TZOFFSETTO:+0300
TZNAME:Europe/Bucharest EEST
END:DAYLIGHT
BEGIN:DAYLIGHT
DTSTART:20260329T040000
RDATE:20261025T030000
TZOFFSETFROM:+0200
TZOFFSETTO:+0300
TZNAME:Europe/Bucharest EEST
END:DAYLIGHT
BEGIN:DAYLIGHT
DTSTART:20270328T040000
RDATE:20271031T030000
TZOFFSETFROM:+0200
TZOFFSETTO:+0300
TZNAME:Europe/Bucharest EEST
END:DAYLIGHT
BEGIN:DAYLIGHT
DTSTART:20280326T040000
RDATE:20281029T030000
TZOFFSETFROM:+0200
TZOFFSETTO:+0300
TZNAME:Europe/Bucharest EEST
END:DAYLIGHT
BEGIN:DAYLIGHT
DTSTART:20290325T040000
RDATE:20291028T030000
TZOFFSETFROM:+0200
TZOFFSETTO:+0300
TZNAME:Europe/Bucharest EEST
END:DAYLIGHT
BEGIN:DAYLIGHT
DTSTART:20300331T040000
RDATE:20301027T030000
TZOFFSETFROM:+0200
TZOFFSETTO:+0300
TZNAME:Europe/Bucharest EEST
END:DAYLIGHT
BEGIN:DAYLIGHT
DTSTART:20310330T040000
RDATE:20311026T030000
TZOFFSETFROM:+0200
TZOFFSETTO:+0300
TZNAME:Europe/Bucharest EEST
END:DAYLIGHT
END:VTIMEZONE
BEGIN:VEVENT
UID:e218c53d19a66a471f1f5676e9a2e830
CATEGORIES:Scolare
CREATED:20180116T005528
SUMMARY:Poveste de Craciun
LOCATION:Camin Cultural Balaceanca

URL;VALUE=URI:https://mail.voxcernica.ro/calendar-evenimente-cernica/calendar-evenimente-
 locale-cernica/97/poveste-de-craciun.html?tmpl=component
DESCRIPTION:Aproximativ 1100 de copii din comuna Cernica sunt asteptati la Caminul Cult
 ural din Balaceanca pentru spectacolul "Poveste de Craciun", sustinut de Tr
 upa de Teatru Cristian Toma. \n
 \n
a href="https://maps.google.com/maps?q\
 n
"\n
 (https://maps.google.com/maps?q\n
)
 This event was imported from: h
 ttps://mail.voxcernica.ro/calendar-evenimente-cernica/calendar-evenimente-l
 ocale-cernica/97/poveste-de-craciun.html?tmpl=component (https://mail.voxce
 rnica.ro/calendar-evenimente-cernica/calendar-evenimente-locale-cernica/97/
 poveste-de-craciun.html?tmpl=component)
X-ALT-DESC;FMTTYPE=text/html:<p>Aproximativ 1100 de copii din comuna Cernica sunt asteptati la Caminul C
 ultural din Balaceanca pentru spectacolul "Poveste de Craciun", sustinut de
  Trupa de Teatru Cristian Toma. </p>
<p> </p>
<p>a href="https://mail.voxce
 rnica.ro/<a href="https://maps.google.com/maps?q</p>
"</p>
">https://maps.g
 oogle.com/maps?q</p>
"</p>
</a>
 <a href="https://mail.voxcernica.ro/calend
 ar-evenimente-cernica/calendar-evenimente-locale-cernica/97/poveste-de-crac
 iun.html?tmpl=component">This event was imported from: https://mail.voxcern
 ica.ro/calendar-evenimente-cernica/calendar-evenimente-locale-cernica/97/po
 veste-de-craciun.html?tmpl=component</a>CONTACT:Această adresă de email este protejată contra spambots. Trebuie să activați JavaScript pentru a o vedea.
				document.getElementById('cloak93c701d840acb363c236f3bbe3727d6a').innerHTML = '';
				var prefix = '&#109;a' + 'i&#108;' + '&#116;o';
				var path = 'hr' + 'ef' + '=';
				var addy93c701d840acb363c236f3bbe3727d6a = 'c&#111;nt&#97;ct' + '&#64;';
				addy93c701d840acb363c236f3bbe3727d6a = addy93c701d840acb363c236f3bbe3727d6a + 'v&#111;xc&#101;rn&#105;c&#97;' + '&#46;' + 'r&#111;';
				var addy_text93c701d840acb363c236f3bbe3727d6a = 'c&#111;nt&#97;ct' + '&#64;' + 'v&#111;xc&#101;rn&#105;c&#97;' + '&#46;' + 'r&#111;';document.getElementById('cloak93c701d840acb363c236f3bbe3727d6a').innerHTML += '<a ' + path + '\'' + prefix + ':' + addy93c701d840acb363c236f3bbe3727d6a + '\'>'+addy_text93c701d840acb363c236f3bbe3727d6a+'';
		

X-EXTRAINFO:Spectacolul va fi tinut in 3 reprize consecutive datorita numarului mare de
  copii si a capacitatii limitate a salii

DTSTAMP:20260420T083600
DTSTART;TZID=Europe/Bucharest:20111220T093000
DTEND;TZID=Europe/Bucharest:20111220T133000
SEQUENCE:0
TRANSP:OPAQUE
END:VEVENT
END:VCALENDAR